BEGIN:VCALENDAR
VERSION:2.0
PRODID:-//King&#039;s House - ECPv6.15.20//NONSGML v1.0//EN
CALSCALE:GREGORIAN
METHOD:PUBLISH
X-ORIGINAL-URL:https://kingshouse.com
X-WR-CALDESC:Events for King&#039;s House
REFRESH-INTERVAL;VALUE=DURATION:PT1H
X-Robots-Tag:noindex
X-PUBLISHED-TTL:PT1H
BEGIN:VTIMEZONE
TZID:America/Chicago
BEGIN:DAYLIGHT
TZOFFSETFROM:-0600
TZOFFSETTO:-0500
TZNAME:CDT
DTSTART:20250309T080000
END:DAYLIGHT
BEGIN:STANDARD
TZOFFSETFROM:-0500
TZOFFSETTO:-0600
TZNAME:CST
DTSTART:20251102T070000
END:STANDARD
BEGIN:DAYLIGHT
TZOFFSETFROM:-0600
TZOFFSETTO:-0500
TZNAME:CDT
DTSTART:20260308T080000
END:DAYLIGHT
BEGIN:STANDARD
TZOFFSETFROM:-0500
TZOFFSETTO:-0600
TZNAME:CST
DTSTART:20261101T070000
END:STANDARD
BEGIN:DAYLIGHT
TZOFFSETFROM:-0600
TZOFFSETTO:-0500
TZNAME:CDT
DTSTART:20270314T080000
END:DAYLIGHT
BEGIN:STANDARD
TZOFFSETFROM:-0500
TZOFFSETTO:-0600
TZNAME:CST
DTSTART:20271107T070000
END:STANDARD
END:VTIMEZONE
BEGIN:VEVENT
DTSTART;TZID=America/Chicago:20260601T150000
DTEND;TZID=America/Chicago:20260604T130000
DTSTAMP:20260423T051049
CREATED:20250911T144424Z
LAST-MODIFIED:20260414T181939Z
UID:6553-1780326000-1780578000@kingshouse.com
SUMMARY:Women's 4-day Midweek Silent Retreat
DESCRIPTION:Blessed are they who??? \n\n\n\n\n\nAt the heart of the teaching of Jesus is the Sermon on the Mount. At the heart of the Sermon on the Mount are the Beatitudes (Matthew 5:3-12). Jesus asks that we see the world in a new way where weakness is strength and poverty is wealth. During our 2026 retreats\, we will seek to embrace this challenging vision. \n\n\n\n   Our Retreat Format includes:  Celebration of the Eucharist; Reconciliation\, Conferences\, Scriptural Rosary\, Healing Service (includes Anointing of the Sick)\, Adoration of the Blessed Sacrament\, Silent Time\, Opportunity for Individual Spiritual Direction; Also includes 3 nights’ private room and 9 meals.
URL:https://kingshouse.com/event/womens-4-day-midweek-silent-retreat/
CATEGORIES:Women's Retreats
END:VEVENT
BEGIN:VEVENT
DTSTART;TZID=America/Chicago:20260609T170000
DTEND;TZID=America/Chicago:20260614T130000
DTSTAMP:20260423T051049
CREATED:20251029T143222Z
LAST-MODIFIED:20251029T143500Z
UID:6582-1781024400-1781442000@kingshouse.com
SUMMARY:Sisters' Intercommunity Retreat - Blessed are They Who...
DESCRIPTION:6 days – 5 nights \n\n\n\n\n\nAt the heart of the teaching of Jesus is the Sermon on the Mount. At the heart of the Sermon on the Mount are the Beatitudes (Matthew 5:3-12). Jesus asks that we see the world in a new way where weakness is strength and poverty is wealth. During our 2026 retreats\, we will seek to embrace this challenging vision. \n\n\n\nLimited sleeping rooms with handicapped bathrooms and short walking distances are available. Dress in layers as rooms may vary in temperatures. \n\n\n\nRetreat Format includes: Daily Mass\, Sacrament of Reconciliation\, Conferences\, Scriptural Rosary\, Healing Service (includes Anointing of the Sick)\, Adoration of the Blessed Sacrament\, Opportunity for Individual Spiritual Direction\, Quiet time for Personal Reflection \n\n\n\nRetreat Fee is $750.00 per person; includes 5 nights private accommodation & meals. \n\n\n\n($50 at time of registration & $700 on the day of arrival)
URL:https://kingshouse.com/event/sisters-intercommunity-retreat-blessed-are-they-who/
CATEGORIES:Women's Retreats
END:VEVENT
BEGIN:VEVENT
DTSTART;TZID=America/Chicago:20260626T200000
DTEND;TZID=America/Chicago:20260628T130000
DTSTAMP:20260423T051049
CREATED:20250911T144057Z
LAST-MODIFIED:20251029T143609Z
UID:6550-1782504000-1782651600@kingshouse.com
SUMMARY:Summer Weekend Retreat for Men and Women
DESCRIPTION:Blessed are they who??? \n\n\n\n\n\nAt the heart of the teaching of Jesus is the Sermon on the Mount. At the heart of the Sermon on the Mount are the Beatitudes (Matthew 5:3-12). Jesus asks that we see the world in a new way where weakness is strength and poverty is wealth. During our 2026 retreats\, we will seek to embrace this challenging vision. \n\n\n\n Our Retreat Format includes:  Celebration of the Eucharist; Reconciliation\, Conferences\, Scriptural Rosary\, Healing Service (includes Anointing of the Sick)\, Adoration of the Blessed Sacrament\, Silent Time\, Opportunity for Individual Spiritual Direction; Also includes 2 nights’ private room and 5 meals.
URL:https://kingshouse.com/event/summer-week-retreat-for-men-and-women/
CATEGORIES:Men's Retreats,Retreats for Men & Women,Women's Retreats
END:VEVENT
END:VCALENDAR